BEGIN:VCALENDAR
VERSION:2.0
PRODID:-//ChamberMaster//Event Calendar 2.0//EN
METHOD:PUBLISH
X-PUBLISHED-TTL:P3D
REFRESH-INTERVAL:P3D
CALSCALE:GREGORIAN
BEGIN:VEVENT
DTSTART:20230222T020000Z
DTEND:20230222T033000Z
X-MICROSOFT-CDO-ALLDAYEVENT:FALSE
SUMMARY:Life "After" Breast Cancer - Celebrating Survivors Breakfast
DESCRIPTION:Piedmont Athens Regional and East Cancer Coalition are the Pink Ribbon Sponsors for the Journey's Survivor Breakfast program and is coming to Athens in February.  The topic is Life" After" Cancer.  The panel will be discussing life after treatment -fears of recurrence\, body image\, annual appointments\, ans so much more.  \n\nIt's The Journey invites breast cancer patients and survivors to join us for this complimentary breakfast!  Each patient/survivor is allowed a guest. RSVP by February 14 at itsthejourney.org
X-ALT-DESC;FMTTYPE=text/html:Piedmont Athens Regional and East Cancer Coalition are the Pink Ribbon Sponsors for the Journey&#39\;s Survivor Breakfast program and is coming to Athens in February.&nbsp\; The topic is Life&quot\; After&quot\; Cancer.&nbsp\; The panel will be discussing life after treatment -fears of recurrence\, body image\, annual appointments\, ans so much more.&nbsp\;&nbsp\;<br />\nIt&#39\;s The Journey invites breast cancer patients and survivors to join us for this complimentary breakfast!&nbsp\; Each patient/survivor is allowed a guest. RSVP by February 14 at itsthejourney.org
LOCATION:Athens Country Club 2700 Jefferson Rd\, Athens\, GA 30607
UID:e.1877.5014
SEQUENCE:3
DTSTAMP:20260419T220818Z
URL:https://www.bankscountyga.biz/events/details/life-after-breast-cancer-celebrating-survivors-breakfast-5014
END:VEVENT

END:VCALENDAR
