BEGIN:VCALENDAR
VERSION:2.0
PRODID:-//ChamberMaster//Event Calendar 2.0//EN
METHOD:PUBLISH
X-PUBLISHED-TTL:P3D
REFRESH-INTERVAL:P3D
CALSCALE:GREGORIAN
BEGIN:VEVENT
DTSTART:20221007T160000Z
DTEND:20221009T210000Z
X-MICROSOFT-CDO-ALLDAYEVENT:FALSE
SUMMARY:Maysville Autumn Leaf Festival
DESCRIPTION:Maysville Autumn Leaf Festival\n\n\nThe Autumn Leaf Festival is held annually on the first Friday\, Saturday and Sunday in October. It consists of food vendors\, art & crafts ( homemade items only). The festival opens up at 12:00 noon on Friday and goes through Sunday. Parade is on Saturday\, 10:00 a.m  A street dance is held on Saturday night. Everyone is encouraged to bring their lounge chairs and enjoy the festivities. There are also cake walks\, beauty contest\, games and rides for the kids.\n\nFor information on the Maysville Autumn Leaf  Festival please contact Brittany at 706-499-4848.
X-ALT-DESC;FMTTYPE=text/html:<h1 class="post-title entry-title" style="box-sizing: border-box\; overflow-wrap: break-word\; font-size: 30px\; margin: 0px\; font-family: Lato\, sans-serif\; line-height: normal\; color: rgb(31\, 26\, 34)\; border: 0px none\; padding: 0px\; background-color: rgb(255\, 255\, 255)\;">Maysville Autumn Leaf Festival</h1>\n\n<div class="entry-content clearfix" style="box-sizing: border-box\; clear: both\; padding-top: 1.5em\; overflow-wrap: break-word\; color: rgb(74\, 71\, 75)\; font-family: Lato\, sans-serif\; font-size: 16px\; background-color: rgb(255\, 255\, 255)\;">\n<p style="box-sizing: border-box\; overflow-wrap: break-word\; margin: 0px 0px 1.5em\; border: 0px none\; padding: 0px\; line-height: 1.5em\;"><span style="box-sizing: border-box\; font-weight: 700\;">The Autumn Leaf Festival is held annually on the first Friday\, Saturday and Sunday in October. It consists of food vendors\, art &amp\; crafts ( homemade items only). The festival opens up at 12:00 noon on Friday and goes through Sunday. Parade is on Saturday\, 10:00 a.m&hellip\; A street dance is held on Saturday night. Everyone is encouraged to bring their lounge chairs and enjoy the festivities. There are also cake walks\, beauty contest\, games and rides for the kids.</span></p>\n\n<p style="box-sizing: border-box\; overflow-wrap: break-word\; margin: 0px\; border: 0px none\; padding: 0px\; line-height: 1.5em\;"><span style="box-sizing: border-box\; font-weight: 700\;">For information on the Maysville Autumn Leaf&nbsp\; Festival please contact Brittany at 706-499-4848.</span></p>\n</div>\n
LOCATION:Downtown Maysville Maysville City Hall 4 Homer Street Maysville GA 30558
UID:e.1877.4949
SEQUENCE:3
DTSTAMP:20260420T044939Z
URL:https://www.bankscountyga.biz/events/details/maysville-autumn-leaf-festival-4949
END:VEVENT

END:VCALENDAR
