BEGIN:VCALENDAR
VERSION:2.0
PRODID:-//ChamberMaster//Event Calendar 2.0//EN
METHOD:PUBLISH
X-PUBLISHED-TTL:P3D
REFRESH-INTERVAL:P3D
CALSCALE:GREGORIAN
BEGIN:VEVENT
DTSTART:20221210T180000Z
DTEND:20221211T010000Z
X-MICROSOFT-CDO-ALLDAYEVENT:FALSE
SUMMARY:Maysville Christmas In The Park
DESCRIPTION:Maysville Christmas in the Park\, Mark your Calendar's! They will be Pictures with Santa\, Caroling by Local Choirrs\, Food and Craft Vendors\, Inflatables and so much more!  This event is sponsored by the Maysville DDA\, Maysville Public Library & The Maysville Community Club.
X-ALT-DESC;FMTTYPE=text/html:Maysville Christmas in the Park\, Mark your Calendar&#39\;s! They will be Pictures with Santa\, Caroling by Local Choirrs\, Food and Craft Vendors\, Inflatables and so much more!&nbsp\; This event is sponsored by the Maysville DDA\, Maysville Public Library &amp\; The Maysville Community Club.
LOCATION:Maysville City Park Homer Street\, Maysville\, GA
UID:e.1877.5008
SEQUENCE:3
DTSTAMP:20260420T012144Z
URL:https://www.bankscountyga.biz/events/details/maysville-christmas-in-the-park-5008
END:VEVENT

END:VCALENDAR
