BEGIN:VCALENDAR
VERSION:2.0
PRODID:-//ChamberMaster//Event Calendar 2.0//EN
METHOD:PUBLISH
X-PUBLISHED-TTL:P3D
REFRESH-INTERVAL:P3D
CALSCALE:GREGORIAN
BEGIN:VEVENT
DTSTART:20230527T030000Z
DTEND:20230527T160000Z
X-MICROSOFT-CDO-ALLDAYEVENT:FALSE
SUMMARY:Maysville's 1st Annual BBQ Competition/Summer Bash
DESCRIPTION:Local "back yard" BBQ competition coming up May 27 in downtown Maysville! Hosted by Bryson's BBQ and the Maysville DDA. Looking for competitors and judges! Email us at brysonsbbq@outlook.com for more info! We'll see ya out there! Craft & Food Vendors\, Cornhole Tournament\, and Live Entertainment from Noon -7pm. Followed by Kayler Dies Taylor - a James Taylor Tribute Band - at 7:30!\n\nRain or Shine!
X-ALT-DESC;FMTTYPE=text/html:<span style="color: rgb(5\, 5\, 5)\; font-family: &quot\;Segoe UI Historic&quot\;\, &quot\;Segoe UI&quot\;\, Helvetica\, Arial\, sans-serif\; font-size: 30px\; white-space: pre-wrap\; background-color: rgb(255\, 255\, 255)\;">Local &rdquo\;back yard&rdquo\; BBQ competition coming up May 27 in downtown Maysville! Hosted by Bryson&rsquo\;s BBQ and the Maysville DDA. Looking for competitors and judges! </span><span style="color: rgb(5\, 5\, 5)\; font-family: &quot\;Segoe UI Historic&quot\;\, &quot\;Segoe UI&quot\;\, Helvetica\, Arial\, sans-serif\; font-size: 30px\; white-space: pre-wrap\; background-color: rgb(255\, 255\, 255)\;">Email us at brysonsbbq@outlook.com for more info! We&rsquo\;ll see ya out there! Craft &amp\; Food Vendors\, Cornhole Tournament\, and Live Entertainment from Noon -7pm. Followed by Kayler Dies Taylor - a James Taylor Tribute Band - at 7:30!<br />\nRain or Shine!</span>
LOCATION:Event will be held at Veteran's Park in Historic Downtown Maysville. Event is sponsored by Bryson's BBQ & Maysville DDA
UID:e.1877.5034
SEQUENCE:3
DTSTAMP:20260419T164914Z
URL:https://www.bankscountyga.biz/events/details/maysville-s-1st-annual-bbq-competition-summer-bash-5034
END:VEVENT

END:VCALENDAR
