BEGIN:VCALENDAR
VERSION:2.0
PRODID:-//ChamberMaster//Event Calendar 2.0//EN
METHOD:PUBLISH
X-PUBLISHED-TTL:P3D
REFRESH-INTERVAL:P3D
CALSCALE:GREGORIAN
BEGIN:VEVENT
DTSTART:20230725T140000Z
DTEND:20230725T160000Z
X-MICROSOFT-CDO-ALLDAYEVENT:FALSE
SUMMARY:Medlink Healthy Summer Tips Event
DESCRIPTION:Please Join MedLink Georgia on Tuesday\, July 25th from 10 AM - 12 PM for an Event to educated on the importance of hydration and physical activity\, and why you should limit yourself.  Also be sure to come by for some awesome prizes.  Tuesday\, July 25th!
X-ALT-DESC;FMTTYPE=text/html:Please Join MedLink Georgia on Tuesday\, July 25th from 10 AM - 12 PM for an Event to educated on the importance of hydration and physical activity\, and why you should limit yourself.&nbsp\; Also be sure to come by for some awesome prizes.&nbsp\; Tuesday\, July 25th!
LOCATION:Medlink\, 396 Historic HWY 441 N\, Habersham\, GA 30535
UID:e.1877.5058
SEQUENCE:3
DTSTAMP:20260419T132917Z
URL:https://www.bankscountyga.biz/events/details/medlink-healthy-summer-tips-event-5058
END:VEVENT

END:VCALENDAR
