BEGIN:VCALENDAR
VERSION:2.0
PRODID:-//ChamberMaster//Event Calendar 2.0//EN
METHOD:PUBLISH
X-PUBLISHED-TTL:P3D
REFRESH-INTERVAL:P3D
CALSCALE:GREGORIAN
BEGIN:VEVENT
DTSTART:20230529T140000Z
DTEND:20230529T150000Z
X-MICROSOFT-CDO-ALLDAYEVENT:FALSE
SUMMARY:Memorial Day Service
DESCRIPTION:Memorial Day Service Hosted by The American Legion Post 215.  Monday\, May 29 @ 10:00 AM.  Special Guest Speaker will be Colonel Al Fracker.  Bring a lawn chair and come out to the Veterans Memorial Park in Downtown Homer\, GA.
X-ALT-DESC;FMTTYPE=text/html:Memorial Day Service Hosted by The American Legion Post 215.&nbsp\; Monday\, May 29 @ 10:00 AM.&nbsp\; Special Guest Speaker will be Colonel Al Fracker.&nbsp\; Bring a lawn chair and come out to the Veterans Memorial Park in Downtown Homer\, GA.<br />\n&nbsp\;
LOCATION:Veterans Memorial Park in down Homer\, GA
UID:e.1877.5047
SEQUENCE:3
DTSTAMP:20260419T164713Z
URL:https://www.bankscountyga.biz/events/details/memorial-day-service-5047
END:VEVENT

END:VCALENDAR
