BEGIN:VCALENDAR
VERSION:2.0
PRODID:-//ChamberMaster//Event Calendar 2.0//EN
METHOD:PUBLISH
X-PUBLISHED-TTL:P3D
REFRESH-INTERVAL:P3D
CALSCALE:GREGORIAN
BEGIN:VEVENT
DTSTART:20220823T213000Z
DTEND:20220823T220000Z
X-MICROSOFT-CDO-ALLDAYEVENT:FALSE
SUMMARY:Mountain Education Charter School Ribbon Cutting Ceremony
DESCRIPTION:Please join the Banks county Chamber CVB as we welcome Mountain Education Charter High School.  We will be having a ribbon cutting ceremony to welcome them\, following will be light refreshments.  It will be located at the Banks County High School at the 9th grade wing at 5:30 PM. \n\n1486 Historic Homer Hwy\, Homer\, GA 30547.
X-ALT-DESC;FMTTYPE=text/html:Please join the Banks county Chamber CVB as we welcome Mountain Education Charter High School.&nbsp\; We will be having a ribbon cutting ceremony to welcome them\, following will be light refreshments.&nbsp\; It will be located at the Banks County High School at the 9th grade wing at 5:30 PM.&nbsp\;<br />\n1486 Historic Homer Hwy\, Homer\, GA 30547.
LOCATION:Banks County High School 1486 Historic Homer Hwy Homer\, GA 30547
UID:e.1877.4982
SEQUENCE:3
DTSTAMP:20260420T082107Z
URL:https://www.bankscountyga.biz/events/details/mountain-education-charter-school-ribbon-cutting-ceremony-4982
END:VEVENT

END:VCALENDAR
