BEGIN:VCALENDAR
VERSION:2.0
PRODID:-//ChamberMaster//Event Calendar 2.0//EN
METHOD:PUBLISH
X-PUBLISHED-TTL:P3D
REFRESH-INTERVAL:P3D
CALSCALE:GREGORIAN
BEGIN:VEVENT
DTSTART:20221030T200000Z
DTEND:20221030T220000Z
X-MICROSOFT-CDO-ALLDAYEVENT:FALSE
SUMMARY:New Haven Church Fall Festival
DESCRIPTION:Mark your calendars!! New Haven is so excited to announce our 2022 Fall Festival! We can't wait to celebrate with our community and look forward to seeing everyone there! Petting Zoo\, Trunk or Treat\, Inflatables\, Hay Rides\, Live Music\, Games\, Boiled Peanuts\, Funnel Cakes & More.\n\nEveryone is Welcome!\n\n615 White Sulphur Rd\n\nGainesville\, Ga 30501
X-ALT-DESC;FMTTYPE=text/html:<div dir="auto" style="font-family: &quot\;Segoe UI Historic&quot\;\, &quot\;Segoe UI&quot\;\, Helvetica\, Arial\, sans-serif\; color: rgb(5\, 5\, 5)\; font-size: 30px\; white-space: pre-wrap\; background-color: rgb(255\, 255\, 255)\;">Mark your calendars!! New Haven is so excited to announce our 2022 Fall Festival! We can&rsquo\;t wait to celebrate with our community and look forward to seeing everyone there! Petting Zoo\, Trunk or Treat\, Inflatables\, Hay Rides\, Live Music\, Games\, Boiled Peanuts\, Funnel Cakes &amp\; More.<br />\nEveryone is Welcome!</div>\n\n<div dir="auto" style="font-family: &quot\;Segoe UI Historic&quot\;\, &quot\;Segoe UI&quot\;\, Helvetica\, Arial\, sans-serif\; color: rgb(5\, 5\, 5)\; font-size: 30px\; white-space: pre-wrap\; background-color: rgb(255\, 255\, 255)\;">615 White Sulphur Rd</div>\n\n<div dir="auto" style="font-family: &quot\;Segoe UI Historic&quot\;\, &quot\;Segoe UI&quot\;\, Helvetica\, Arial\, sans-serif\; color: rgb(5\, 5\, 5)\; font-size: 30px\; white-space: pre-wrap\; background-color: rgb(255\, 255\, 255)\;">Gainesville\, Ga 30501</div>\n
LOCATION:New Haven Church 615 White Sulphur Rd Gainesville\, GA 30501
UID:e.1877.5000
SEQUENCE:3
DTSTAMP:20260420T044620Z
URL:https://www.bankscountyga.biz/events/details/new-haven-church-fall-festival-5000
END:VEVENT

END:VCALENDAR
