BEGIN:VCALENDAR
VERSION:2.0
PRODID:-//ChamberMaster//Event Calendar 2.0//EN
METHOD:PUBLISH
X-PUBLISHED-TTL:P3D
REFRESH-INTERVAL:P3D
CALSCALE:GREGORIAN
BEGIN:VEVENT
DTSTART:20220802T210000Z
DTEND:20220802T220000Z
X-MICROSOFT-CDO-ALLDAYEVENT:FALSE
SUMMARY:Peace Place New Shelter Ground Breaking
DESCRIPTION:Please Join The Peace Place as we celebrate the Ground Breaking of our New Shelter. Reception to follow.  Please RSVP to Helene hcaviness@peaceplaceinc.org
X-ALT-DESC;FMTTYPE=text/html:Please Join The Peace Place as we celebrate the Ground Breaking of our New Shelter. Reception to follow.&nbsp\; Please RSVP to Helene hcaviness@peaceplaceinc.org
LOCATION:Jackson county Agruculteral Facility 1869 County Farm Road Jefferson\, GA 30549
UID:e.1877.4967
SEQUENCE:3
DTSTAMP:20260420T081212Z
URL:https://www.bankscountyga.biz/events/details/peace-place-new-shelter-ground-breaking-4967
END:VEVENT

END:VCALENDAR
