BEGIN:VCALENDAR
VERSION:2.0
PRODID:-//ChamberMaster//Event Calendar 2.0//EN
METHOD:PUBLISH
X-PUBLISHED-TTL:P3D
REFRESH-INTERVAL:P3D
CALSCALE:GREGORIAN
BEGIN:VEVENT
DTSTART:20221106T230000Z
DTEND:20221107T020000Z
X-MICROSOFT-CDO-ALLDAYEVENT:FALSE
SUMMARY:Peace Place Presents FALL INTO WINE
DESCRIPTION:Peace Place Presents...\n\n\n\nFall into Wine ~\n\nA wine dinner to include a fabulous 3 course meal\, champagne reception\, and 3 wine pairings.\n\n\n\nSunday\, November 6th\n\n6 pm to 9 pm\n\n\n\nChapman Hill\n\n1960 Jett Roberts Road\n\nJefferson\, 30549\n\n\n\n$100 per ticket\n\n\n\nPlease contact our Director of Finance Helene at hcaviness@peaceplaceinc.org or 770-307-3633 to purchase your ticket today.\n\n\n\nhttps://fb.me/e/1YxsD5lhS
X-ALT-DESC;FMTTYPE=text/html:<div class="kvgmc6g5 cxmmr5t8 oygrvhab hcukyx3x c1et5uql ii04i59q" style="background-color: rgb(255\, 255\, 255)\; overflow-wrap: break-word\; margin: 0px\; white-space: pre-wrap\; font-family: &quot\;Segoe UI Historic&quot\;\, &quot\;Segoe UI&quot\;\, Helvetica\, Arial\, sans-serif\; color: rgb(5\, 5\, 5)\; font-size: 30px\;">\n<div dir="auto" style="font-family: inherit\;">Peace Place Presents...</div>\n</div>\n\n<div class="cxmmr5t8 oygrvhab hcukyx3x c1et5uql o9v6fnle ii04i59q" style="background-color: rgb(255\, 255\, 255)\; overflow-wrap: break-word\; margin: 0.5em 0px 0px\; white-space: pre-wrap\; font-family: &quot\;Segoe UI Historic&quot\;\, &quot\;Segoe UI&quot\;\, Helvetica\, Arial\, sans-serif\; color: rgb(5\, 5\, 5)\; font-size: 30px\;">\n<div dir="auto" style="font-family: inherit\;">Fall into Wine ~</div>\n\n<div dir="auto" style="font-family: inherit\;">A wine dinner to include a fabulous 3 course meal\, champagne reception\, and 3 wine pairings.</div>\n</div>\n\n<div class="cxmmr5t8 oygrvhab hcukyx3x c1et5uql o9v6fnle ii04i59q" style="background-color: rgb(255\, 255\, 255)\; overflow-wrap: break-word\; margin: 0.5em 0px 0px\; white-space: pre-wrap\; font-family: &quot\;Segoe UI Historic&quot\;\, &quot\;Segoe UI&quot\;\, Helvetica\, Arial\, sans-serif\; color: rgb(5\, 5\, 5)\; font-size: 30px\;">\n<div dir="auto" style="font-family: inherit\;">Sunday\, November 6th</div>\n\n<div dir="auto" style="font-family: inherit\;">6 pm to 9 pm</div>\n</div>\n\n<div class="cxmmr5t8 oygrvhab hcukyx3x c1et5uql o9v6fnle ii04i59q" style="background-color: rgb(255\, 255\, 255)\; overflow-wrap: break-word\; margin: 0.5em 0px 0px\; white-space: pre-wrap\; font-family: &quot\;Segoe UI Historic&quot\;\, &quot\;Segoe UI&quot\;\, Helvetica\, Arial\, sans-serif\; color: rgb(5\, 5\, 5)\; font-size: 30px\;">\n<div dir="auto" style="font-family: inherit\;">Chapman Hill</div>\n\n<div dir="auto" style="font-family: inherit\;">1960 Jett Roberts Road</div>\n\n<div dir="auto" style="font-family: inherit\;">Jefferson\, 30549</div>\n</div>\n\n<div class="cxmmr5t8 oygrvhab hcukyx3x c1et5uql o9v6fnle ii04i59q" style="background-color: rgb(255\, 255\, 255)\; overflow-wrap: break-word\; margin: 0.5em 0px 0px\; white-space: pre-wrap\; font-family: &quot\;Segoe UI Historic&quot\;\, &quot\;Segoe UI&quot\;\, Helvetica\, Arial\, sans-serif\; color: rgb(5\, 5\, 5)\; font-size: 30px\;">\n<div dir="auto" style="font-family: inherit\;">$100 per ticket</div>\n</div>\n\n<div class="cxmmr5t8 oygrvhab hcukyx3x c1et5uql o9v6fnle ii04i59q" style="background-color: rgb(255\, 255\, 255)\; overflow-wrap: break-word\; margin: 0.5em 0px 0px\; white-space: pre-wrap\; font-family: &quot\;Segoe UI Historic&quot\;\, &quot\;Segoe UI&quot\;\, Helvetica\, Arial\, sans-serif\; color: rgb(5\, 5\, 5)\; font-size: 30px\;">\n<div dir="auto" style="font-family: inherit\;">Please contact our Director of Finance Helene at hcaviness@peaceplaceinc.org or 770-307-3633 to purchase your ticket today.</div>\n</div>\n\n<div class="cxmmr5t8 oygrvhab hcukyx3x c1et5uql o9v6fnle ii04i59q" style="background-color: rgb(255\, 255\, 255)\; overflow-wrap: break-word\; margin: 0.5em 0px 0px\; white-space: pre-wrap\; font-family: &quot\;Segoe UI Historic&quot\;\, &quot\;Segoe UI&quot\;\, Helvetica\, Arial\, sans-serif\; color: rgb(5\, 5\, 5)\; font-size: 30px\;">\n<div dir="auto" style="font-family: inherit\;"><span style="font-family: inherit\;"><a class="oajrlxb2 g5ia77u1 qu0x051f esr5mh6w e9989ue4 r7d6kgcz rq0escxv nhd2j8a9 nc684nl6 p7hjln8o kvgmc6g5 cxmmr5t8 oygrvhab hcukyx3x jb3vyjys rz4wbd8a qt6c0cv9 a8nywdso i1ao9s8h esuyzwwr f1sip0of lzcic4wl gpro0wi8 py34i1dx" href="https://fb.me/e/1YxsD5lhS" rel="nofollow noopener" role="link" style="color: rgb(7\, 130\, 193)\; cursor: pointer\; text-decoration-line: none\; outline: none\; list-style: none\; border-width: 0px\; border-style: initial\; border-color: initial\; padding: 0px\; margin: 0px\; touch-action: manipulation\; background-color: transparent\; text-align: inherit\; display: inline\; -webkit-tap-highlight-color: transparent\; box-sizing: border-box\; font-family: inherit\;" tabindex="0" target="_blank">https://fb.me/e/1YxsD5lhS</a></span><br />\n&nbsp\;</div>\n</div>\n
LOCATION:CHAPMAN HILL 1960 JETT ROBERTS ROAD JEFFERSON\, GA 30549
UID:e.1877.4979
SEQUENCE:3
DTSTAMP:20260420T025541Z
URL:https://www.bankscountyga.biz/events/details/peace-place-presents-fall-into-wine-4979
END:VEVENT

END:VCALENDAR
