BEGIN:VCALENDAR
VERSION:2.0
PRODID:-//ChamberMaster//Event Calendar 2.0//EN
METHOD:PUBLISH
X-PUBLISHED-TTL:P3D
REFRESH-INTERVAL:P3D
CALSCALE:GREGORIAN
BEGIN:VEVENT
DTSTART:20230310T120000Z
DTEND:20230310T200000Z
X-MICROSOFT-CDO-ALLDAYEVENT:FALSE
SUMMARY:Piedmont Athens Regional Dogwood Classic Golf Tournament
DESCRIPTION:Piedmont Athens Regional Dogwood Classic Golf Tournament is Friday\, March 10\,  2023 at the UGA Golf Course - Athens\, GA.  Registration is at 7:00 am\, Shotgun start is at 8:30 am Proceeds to Benefit Community Health Education.  To register:  Contact Barian Kalbhenn with Magnolia Golf Group at 770--871-1448 or bkalbhenn@magnoliagolfgroup.com.
X-ALT-DESC;FMTTYPE=text/html:Piedmont Athens Regional Dogwood Classic Golf Tournament is Friday\, March 10\,&nbsp\; 2023 at the UGA Golf Course - Athens\, GA.&nbsp\; Registration is at 7:00 am\, Shotgun start is at 8:30 am Proceeds to Benefit Community Health Education.&nbsp\; To register:&nbsp\; Contact Barian Kalbhenn with Magnolia Golf Group at 770--871-1448 or bkalbhenn@magnoliagolfgroup.com.
LOCATION:UGA Golf Course in Athens GA.
UID:e.1877.5024
SEQUENCE:3
DTSTAMP:20260419T201934Z
URL:https://www.bankscountyga.biz/events/details/piedmont-athens-regional-dogwood-classic-golf-tournament-5024
END:VEVENT

END:VCALENDAR
