BEGIN:VCALENDAR
VERSION:2.0
PRODID:-//ChamberMaster//Event Calendar 2.0//EN
METHOD:PUBLISH
X-PUBLISHED-TTL:P3D
REFRESH-INTERVAL:P3D
CALSCALE:GREGORIAN
BEGIN:VEVENT
DTSTART:20230318T130000Z
DTEND:20230318T160000Z
X-MICROSOFT-CDO-ALLDAYEVENT:FALSE
SUMMARY:Pleace Place\, Inc Presents the Foliage Fest 5K
DESCRIPTION:Peace Place\, Inc. presents the Foliage Fest 5K on Saturday\, March 18\, 2023.  Located at 127 Memorial Drive\, Jefferson\, GA 30549.  You can register on or before Wednesday\, March 1st. $30 Including T-shirt. Registration After March 1st\, will be $35 and not guaranteed a T-Shirt.  Check in Starts at 8 AM Race Starts at 9 AM.
X-ALT-DESC;FMTTYPE=text/html:Peace Place\, Inc. presents the Foliage Fest 5K on Saturday\, March 18\, 2023.&nbsp\; Located at 127 Memorial Drive\, Jefferson\, GA 30549.&nbsp\; You can register on or before Wednesday\, March 1st. $30 Including T-shirt. Registration After March 1st\, will be $35 and not guaranteed a T-Shirt.&nbsp\; Check in Starts at 8 AM Race Starts at 9 AM.
LOCATION:127 Memorial Drive Jefferson\, GA 30549
UID:e.1877.5020
SEQUENCE:3
DTSTAMP:20260419T201713Z
URL:https://www.bankscountyga.biz/events/details/pleace-place-inc-presents-the-foliage-fest-5k-5020
END:VEVENT

END:VCALENDAR
