BEGIN:VCALENDAR
VERSION:2.0
PRODID:-//ChamberMaster//Event Calendar 2.0//EN
METHOD:PUBLISH
X-PUBLISHED-TTL:P3D
REFRESH-INTERVAL:P3D
CALSCALE:GREGORIAN
BEGIN:VEVENT
DTSTART:20230616T130000Z
DTEND:20230616T140000Z
X-MICROSOFT-CDO-ALLDAYEVENT:FALSE
SUMMARY:Ribbon Cutting Ceremony
DESCRIPTION:Please Join us for  a Ribbon Cutting @ Grand Opening for  "Bin Spot of Commerce\, LLC" to Banks County.  We hope you can join us as we welcome them.  Refreshments will be served following.  Friday\, June 16th @ 9:00 AM\, Open to public at 10:00 AM.  Shoppes at Banks Crossing.  260 Banks Crossing Drive Commerce\, GA 30529.  For information contact Alicia or Tina at the Chamber CVB/706-335-4866.  Hope to see you all!
X-ALT-DESC;FMTTYPE=text/html:Please Join us for&nbsp\; a Ribbon Cutting @ Grand Opening for&nbsp\; &quot\;Bin Spot of Commerce\, LLC&quot\; to Banks County.&nbsp\; We hope you can join us as we welcome them.&nbsp\; Refreshments will be served following.&nbsp\; Friday\, June 16th @ 9:00 AM\, Open to public at 10:00 AM.&nbsp\; Shoppes at Banks Crossing.&nbsp\; 260 Banks Crossing Drive Commerce\, GA 30529.&nbsp\;<span style="color:#0000FF\;"> For information contact Alicia or Tina at the Chamber CVB/706-335-4866.&nbsp\; Hope to see you all!</span>
LOCATION:Shoppes at Banks Crossing 260 Banks Crossing Drive Commerce\, GA 30529
UID:e.1877.5052
SEQUENCE:3
DTSTAMP:20260419T150835Z
URL:https://www.bankscountyga.biz/events/details/ribbon-cutting-ceremony-5052
END:VEVENT

END:VCALENDAR
