BEGIN:VCALENDAR
VERSION:2.0
PRODID:-//ChamberMaster//Event Calendar 2.0//EN
METHOD:PUBLISH
X-PUBLISHED-TTL:P3D
REFRESH-INTERVAL:P3D
CALSCALE:GREGORIAN
BEGIN:VEVENT
DTSTART:20230908T140000Z
DTEND:20230908T143000Z
X-MICROSOFT-CDO-ALLDAYEVENT:FALSE
SUMMARY:Ribbon Cutting Ceremony
DESCRIPTION:Please join us as we welcome Dr. Adrian Thane\, with North Georgia Upper Cervical Clinics in Lula.  Dr. Adrian Thane is a Gentle Chiropractic\, Orthospinology\, Sport Injury Specialist.  Hope you can make it!  6110 Banks Street\, Lula\, GA 30554.  For more information please call the Chamber CVB office a@706-335-4866.  Will be serving smoothies to everyone that day.
X-ALT-DESC;FMTTYPE=text/html:Please join us as we welcome Dr. Adrian Thane\, with North Georgia Upper Cervical Clinics in Lula.&nbsp\; Dr. Adrian Thane is a Gentle Chiropractic\, Orthospinology\, Sport Injury Specialist.&nbsp\; Hope you can make it!&nbsp\; 6110 Banks Street\, Lula\, GA 30554.&nbsp\; For more information please call the Chamber CVB office a@706-335-4866.&nbsp\;&nbsp\;<span style="color: rgb(51\, 51\, 51)\; font-family: sans-serif\, Arial\, Verdana\, &quot\;Trebuchet MS&quot\;\; font-size: 13px\; background-color: rgb(255\, 255\, 255)\;">Will be serving smoothies to everyone that day.</span>
LOCATION:6110 Banks Street\, Lula\, GA 30554
UID:e.1877.5071
SEQUENCE:3
DTSTAMP:20260419T120608Z
URL:https://www.bankscountyga.biz/events/details/ribbon-cutting-ceremony-5071
END:VEVENT

END:VCALENDAR
