BEGIN:VCALENDAR
VERSION:2.0
PRODID:-//ChamberMaster//Event Calendar 2.0//EN
METHOD:PUBLISH
X-PUBLISHED-TTL:P3D
REFRESH-INTERVAL:P3D
CALSCALE:GREGORIAN
BEGIN:VEVENT
DTSTART:20230415T160000Z
DTEND:20230415T200000Z
X-MICROSOFT-CDO-ALLDAYEVENT:FALSE
SUMMARY:Spring Festival hosted by Northridge Health & Rehabilitation
DESCRIPTION:Spring Fling hosted by Northridge Health & Rehabilitation.  Come join us April 15th for some family fun!  Everyone is invited!  We can't wait to see you there!  Food Truck\, Free Hot Dogs\, Touch-A-Truck\, Inflatables\, Cake Walk and much more!  Job Fair on the spot job interviews.
X-ALT-DESC;FMTTYPE=text/html:Spring Fling hosted by Northridge Health &amp\; Rehabilitation.&nbsp\; Come join us April 15th for some family fun!&nbsp\; Everyone is invited!&nbsp\; We can&#39\;t wait to see you there!&nbsp\; Food Truck\, Free Hot Dogs\, Touch-A-Truck\, Inflatables\, Cake Walk and much more!&nbsp\; Job Fair on the spot job interviews.&nbsp\;&nbsp\;
LOCATION:100 Medical Center Drive Commerce\, GA 30529
UID:e.1877.5030
SEQUENCE:3
DTSTAMP:20260419T183341Z
URL:https://www.bankscountyga.biz/events/details/spring-festival-hosted-by-northridge-health-rehabilitation-5030
END:VEVENT

END:VCALENDAR
