BEGIN:VCALENDAR
VERSION:2.0
PRODID:-//ChamberMaster//Event Calendar 2.0//EN
METHOD:PUBLISH
X-PUBLISHED-TTL:P3D
REFRESH-INTERVAL:P3D
CALSCALE:GREGORIAN
BEGIN:VEVENT
DTSTART:20230605T113000Z
DTEND:20230622T153000Z
X-MICROSOFT-CDO-ALLDAYEVENT:FALSE
SUMMARY:Summer Meals
DESCRIPTION:The Banks County School System is offering SUMMER MEALS available at no cost to children 18 and under.
X-ALT-DESC;FMTTYPE=text/html:The Banks County School System is offering SUMMER MEALS available at no cost to children 18 and under.&nbsp\;&nbsp\;
LOCATION:Banks County High School 1486 -A Historic Homer Nwy Banks County Library 226 GA-51 South Banks County Elementary 180 GA-51 South Banks County Middle 712 Thompson Street
UID:e.1877.5050
SEQUENCE:3
DTSTAMP:20260419T150727Z
URL:https://www.bankscountyga.biz/events/details/summer-meals-5050
END:VEVENT

END:VCALENDAR
