BEGIN:VCALENDAR
VERSION:2.0
PRODID:-//ChamberMaster//Event Calendar 2.0//EN
METHOD:PUBLISH
X-PUBLISHED-TTL:P3D
REFRESH-INTERVAL:P3D
CALSCALE:GREGORIAN
BEGIN:VEVENT
DTSTART:20230729T170000Z
DTEND:20230729T200000Z
X-MICROSOFT-CDO-ALLDAYEVENT:FALSE
SUMMARY:Tanger Outlets\, Commerce Back to School Bash
DESCRIPTION:Tanger Outlets\, Back To School Bash!!!\n\nSave the date!\n\n\n\nJoin Tanger Commerce next Saturday\, July 29th from 1 PM - 4 PM as we kick-off Back to School Shopping in style with our Back To School Bash! Take a break from shopping and saving at your favorite brands and enjoy FREE family fun. Elements include inflatables\, live DJ\, caricature art\, balloon artist and more!\n\n\n\nFor more information\, please visit www.tanger.com/commerce/events/july
X-ALT-DESC;FMTTYPE=text/html:Tanger Outlets\, Back To School Bash!!!\n<div class="xdj266r x11i5rnm xat24cr x1mh8g0r x1vvkbs x126k92a" style="margin: 0px\; white-space-collapse: preserve\; overflow-wrap: break-word\; font-family: &quot\;Segoe UI Historic&quot\;\, &quot\;Segoe UI&quot\;\, Helvetica\, Arial\, sans-serif\; color: rgb(5\, 5\, 5)\; font-size: 30px\; background-color: rgb(255\, 255\, 255)\;">\n<div dir="auto" style="font-family: inherit\;">Save the date!</div>\n</div>\n\n<div class="x11i5rnm xat24cr x1mh8g0r x1vvkbs xtlvy1s x126k92a" style="margin: 0.5em 0px 0px\; white-space-collapse: preserve\; overflow-wrap: break-word\; font-family: &quot\;Segoe UI Historic&quot\;\, &quot\;Segoe UI&quot\;\, Helvetica\, Arial\, sans-serif\; color: rgb(5\, 5\, 5)\; font-size: 30px\; background-color: rgb(255\, 255\, 255)\;">\n<div dir="auto" style="font-family: inherit\;">Join Tanger Commerce next Saturday\, July 29th from 1 PM - 4 PM as we kick-off Back to School Shopping in style with our Back To School Bash! Take a break from shopping and saving at your favorite brands and enjoy FREE family fun. Elements include inflatables\, live DJ\, caricature art\, balloon artist and more!</div>\n</div>\n\n<div class="x11i5rnm xat24cr x1mh8g0r x1vvkbs xtlvy1s x126k92a" style="margin: 0.5em 0px 0px\; white-space-collapse: preserve\; overflow-wrap: break-word\; font-family: &quot\;Segoe UI Historic&quot\;\, &quot\;Segoe UI&quot\;\, Helvetica\, Arial\, sans-serif\; color: rgb(5\, 5\, 5)\; font-size: 30px\; background-color: rgb(255\, 255\, 255)\;">\n<div dir="auto" style="font-family: inherit\;">For more information\, please visit <span style="font-family: inherit\;"><a class="x1i10hfl xjbqb8w x6umtig x1b1mbwd xaqea5y xav7gou x9f619 x1ypdohk xt0psk2 xe8uvvx xdj266r x11i5rnm xat24cr x1mh8g0r xexx8yu x4uap5 x18d9i69 xkhd6sd x16tdsg8 x1hl2dhg xggy1nq x1a2a7pz xt0b8zv x1fey0fg" href="http://www.tanger.com/commerce/events/july?fbclid=IwAR2v1FkVkA5VAMNfcDmuUm93IokPwvLMPVBesg5_w60J-sdD53ZaOtJWOPo" rel="nofollow noreferrer" role="link" style="cursor: pointer\; text-decoration-line: none\; border-width: 0px\; border-style: initial\; border-color: initial\; outline: none\; list-style: none\; margin: 0px\; text-align: inherit\; padding: 0px\; -webkit-tap-highlight-color: transparent\; box-sizing: border-box\; touch-action: manipulation\; background-color: transparent\; display: inline\; font-family: inherit\;" tabindex="0" target="_blank">www.tanger.com/commerce/events/july</a></span></div>\n</div>\n
LOCATION:Tanger Shopping Mall 800 Steven B Tanger Blvd Commerce\, GA 30529 Event area near H&M
UID:e.1877.5060
SEQUENCE:3
DTSTAMP:20260419T132815Z
URL:https://www.bankscountyga.biz/events/details/tanger-outlets-commerce-back-to-school-bash-5060
END:VEVENT

END:VCALENDAR
