BEGIN:VCALENDAR
VERSION:2.0
PRODID:-//ChamberMaster//Event Calendar 2.0//EN
METHOD:PUBLISH
X-PUBLISHED-TTL:P3D
REFRESH-INTERVAL:P3D
CALSCALE:GREGORIAN
BEGIN:VEVENT
DTSTART:20230527T170000Z
DTEND:20230527T200000Z
X-MICROSOFT-CDO-ALLDAYEVENT:FALSE
SUMMARY:Tanger Outlets\, Commerce Memorial Day block Party
DESCRIPTION:Join Tanger Commerce for our Memorial Day Block Party on Saturday\, May 27th from 1 PM - 4 PM. Join us for FREE Family fun including a live DJ\, caricature art\, Tanger prize wheel\, giant bubble art from Bubbles Over Georgia\, and more! Event area is immediately in front of H&M. \n\n\n\nWhile here\, be sure to check out our event sponsor - Atlanta Suits Outlet. We can't wait to see you there!
X-ALT-DESC;FMTTYPE=text/html:<div style="font-family: &quot\;Segoe UI Historic&quot\;\, &quot\;Segoe UI&quot\;\, Helvetica\, Arial\, sans-serif\; color: rgb(28\, 30\, 33)\; font-size: 12px\; background-color: rgb(255\, 255\, 255)\;">\n<div class="x1cy8zhl x78zum5 x1q0g3np xod5an3 x1pi30zi x1swvt13 xz9dl7a" style="align-items: flex-start\; padding-right: 16px\; flex-direction: row\; padding-left: 16px\; display: flex\; margin-bottom: 12px\; padding-top: 12px\; font-family: inherit\;">\n<div class="x1iyjqo2" style="flex-grow: 1\; font-family: inherit\;">\n<div class="x78zum5 xdt5ytf xz62fqu x16ldp7u" style="margin-top: -5px\; display: flex\; flex-direction: column\; margin-bottom: -5px\; font-family: inherit\;">\n<div class="xu06os2 x1ok221b" style="margin-top: 5px\; margin-bottom: 5px\; font-family: inherit\;"><span class="x193iq5w xeuugli x13faqbe x1vvkbs x1xmvt09 x1lliihq x1s928wv xhkezso x1gmr53x x1cpjm7i x1fgarty x1943h6x x4zkp8e x676frb x1nxh6w3 x1sibtaa xo1l8bm xi81zsa x1yc453h" dir="auto" style="word-break: break-word\; max-width: 100%\; display: block\; font-size: 0.8125rem\; line-height: 1.2308\; overflow-wrap: break-word\; font-family: inherit\; min-width: 0px\; color: var(--secondary-text)\;"><span id=":r1ea:" style="font-family: inherit\;"><span style="font-family: inherit\;"><span class="x4k7w5x x1h91t0o x1h9r5lt x1jfb8zj xv2umb2 x1beo9mf xaigb6o x12ejxvf x3igimt xarpa2k xedcshv x1lytzrv x1t2pt76 x7ja8zs x1qrby5j" style="flex: inherit\; flex-direction: inherit\; align-items: inherit\; align-self: inherit\; display: inherit\; max-width: inherit\; width: inherit\; min-height: inherit\; height: inherit\; place-content: inherit\; min-width: inherit\; max-height: inherit\; font-family: inherit\;"><a class="x1i10hfl xjbqb8w x6umtig x1b1mbwd xaqea5y xav7gou x9f619 x1ypdohk xt0psk2 xe8uvvx xdj266r x11i5rnm xat24cr x1mh8g0r xexx8yu x4uap5 x18d9i69 xkhd6sd x16tdsg8 x1hl2dhg xggy1nq x1a2a7pz x1heor9g xt0b8zv xo1l8bm" href="https://www.facebook.com/CommerceTangerOutlets#" role="link" style="cursor: pointer\; text-decoration-line: none\; border-width: 0px\; border-style: initial\; border-color: initial\; outline: none\; list-style: none\; margin: 0px\; text-align: inherit\; padding: 0px\; -webkit-tap-highlight-color: transparent\; box-sizing: border-box\; touch-action: manipulation\; background-color: transparent\; display: inline\; font-family: inherit\;" tabindex="0"><span style="font-family: inherit\;"><span aria-labelledby=":r1eh:" class="x1rg5ohu x6ikm8r x10wlt62 x16dsc37 xt0b8zv" style="overflow: hidden\; vertical-align: top\; display: inline-block\; font-family: inherit\;"><yovygtxfblv-dlhyuxwnygd><yovygtxfblv-dlhyuxwnygd><svg style="height: 16px\; overflow: visible\; width: 13.5469px\;"><use xlink:href="#gid129" xmlns:xlink="http://www.w3.org/1999/xlink"></use></svg></yovygtxfblv-dlhyuxwnygd></yovygtxfblv-dlhyuxwnygd></span></span></a></span></span><span class="xh99ass" style="font-family: inherit\;"><span style="font-family: inherit\;"><span class="xzpqnlu xjm9jq1 x6ikm8r x10wlt62 x10l6tqk x1i1rx1s" style="position: absolute\; overflow: hidden\; width: 1px\; height: 1px\; clip: rect(0px\, 0px\, 0px\, 0px)\; font-family: inherit\;">&nbsp\;</span><span aria-hidden="true" style="font-family: inherit\;">&nbsp\;&middot\;&nbsp\;</span></span></span><span class="xuxw1ft" style="white-space: nowrap\; font-family: inherit\;"><span class="x4k7w5x x1h91t0o x1h9r5lt x1jfb8zj xv2umb2 x1beo9mf xaigb6o x12ejxvf x3igimt xarpa2k xedcshv x1lytzrv x1t2pt76 x7ja8zs x1qrby5j" style="flex: inherit\; flex-direction: inherit\; align-items: inherit\; align-self: inherit\; display: inherit\; max-width: inherit\; width: inherit\; min-height: inherit\; height: inherit\; place-content: inherit\; min-width: inherit\; max-height: inherit\; font-family: inherit\;"><span class="x1rg5ohu x1n2onr6 xs7f9wi" style="position: relative\; display: inline-block\; top: 2px\; font-family: inherit\;"><svg class="x1lliihq x1k90msu x2h7rmj x1qfuztq xcza8v6 x1kpxq89 xsmyaan" fill="currentColor" height="1em" title="Shared with Public" viewbox="0 0 16 16" width="1em"><g fill-rule="evenodd" transform="translate(-448 -544)"><g><path d="M109.5 408.5c0 3.23-2.04 5.983-4.903 7.036l.07-.036c1.167-1 1.814-2.967 2-3.834.214-1 .303-1.3-.5-1.96-.31-.253-.677-.196-1.04-.476-.246-.19-.356-.59-.606-.73-.594-.337-1.107.11-1.954.223a2.666 2.666 0 0 1-1.15-.123c-.007 0-.007 0-.013-.004l-.083-.03c-.164-.082-.077-.206.006-.36h-.006c.086-.17.086-.376-.05-.529-.19-.214-.54-.214-.804-.224-.106-.003-.21 0-.313.004l-.003-.004c-.04 0-.084.004-.124.004h-.037c-.323.007-.666-.034-.893-.314-.263-.353-.29-.733.097-1.09.28-.26.863-.8 1.807-.22.603.37 1.166.667 1.666.5.33-.11.48-.303.094-.87a1.128 1.128 0 0 1-.214-.73c.067-.776.687-.84 1.164-1.2.466-.356.68-.943.546-1.457-.106-.413-.51-.873-1.28-1.01a7.49 7.49 0 0 1 6.524 7.434" transform="translate(354 143.5)"></path><path d="M104.107 415.696A7.498 7.498 0 0 1 94.5 408.5a7.48 7.48 0 0 1 3.407-6.283 5.474 5.474 0 0 0-1.653 2.334c-.753 2.217-.217 4.075 2.29 4.075.833 0 1.4.561 1.333 2.375-.013.403.52 1.78 2.45 1.89.7.04 1.184 1.053 1.33 1.74.06.29.127.65.257.97a.174.174 0 0 0 .193.096" transform="translate(354 143.5)"></path><path d="M110 408.5a8 8 0 1 1-16 0 8 8 0 0 1 16 0zm-1 0a7 7 0 1 0-14 0 7 7 0 0 0 14 0z" fill-rule="nonzero" transform="translate(354 143.5)"></path></g></g></svg></span></span></span></span></span></div>\n</div>\n</div>\n\n<div class="xqcrz7y x78zum5 x1qx5ct2 x1y1aw1k x1sxyh0 xwib8y2 xurb0ha xw4jnvo" style="height: 20px\; padding: 8px\; display: flex\; align-self: flex-start\; width: 20px\; font-family: inherit\;">\n<div style="font-family: inherit\;">\n<div aria-expanded="false" aria-haspopup="menu" aria-label="Actions for this post" class="x1i10hfl x1qjc9v5 xjqpnuy xa49m3k xqeqjp1 x2hbi6w x9f619 x1ypdohk xdl72j9 x2lah0s xe8uvvx x2lwn1j xeuugli x16tdsg8 x1hl2dhg xggy1nq x1ja2u2z x1t137rt x1o1ewxj x3x9cwd x1e5q0jg x13rtm0m x1q0g3np x87ps6o x1lku1pv x1a2a7pz xjyslct xjbqb8w x13fuv20 xu3j5b3 x1q0q8m5 x26u7qi x972fbf xcfux6l x1qhh985 xm0m39n x3nfvp2 xdj266r x11i5rnm xat24cr x1mh8g0r xexx8yu x4uap5 x18d9i69 xkhd6sd x1n2onr6 x3ajldb x194ut8o x1vzenxt xd7ygy7 xt298gk x1xhcax0 x1s928wv x10pfhc2 x1j6awrg x1v53gu8 x1tfg27r xitxdhh" role="button" style="outline: none\; list-style: none\; margin: 0px\; border-style: solid\; border-radius: inherit\; text-align: inherit\; padding: 0px\; -webkit-tap-highlight-color: transparent\; z-index: 0\; position: relative\; flex-direction: row\; border-width: 0px\; align-items: stretch\; cursor: pointer\; border-left-color: var(--always-dark-overlay)\; flex-shrink: 0\; min-height: 0px\; vertical-align: bottom\; display: inline-flex\; user-select: none\; box-sizing: border-box\; border-right-color: var(--always-dark-overlay)\; flex-basis: auto\; min-width: 0px\; touch-action: manipulation\; background-color: transparent\; border-top-color: var(--always-dark-overlay)\; appearance: none\; border-bottom-color: var(--always-dark-overlay)\; font-family: inherit\;" tabindex="0"><svg class="x1lliihq x1k90msu x2h7rmj x1qfuztq xcza8v6 x1qx5ct2 xw4jnvo" fill="currentColor" height="1em" viewbox="0 0 20 20" width="1em"><g fill-rule="evenodd" transform="translate(-446 -350)"><path d="M458 360a2 2 0 1 1-4 0 2 2 0 0 1 4 0m6 0a2 2 0 1 1-4 0 2 2 0 0 1 4 0m-12 0a2 2 0 1 1-4 0 2 2 0 0 1 4 0"></path></g></svg>\n\n<div class="x1ey2m1c xds687c xg01cxk x47corl x10l6tqk x17qophe x13vifvy x1ebt8du x19991ni x1dhq9h x14yjl9h xudhj91 x18nykt9 xww2gxu" data-visualcompletion="ignore" style="position: absolute\; inset: 0px\; border-radius: 50%\; transition-property: opacity\; transition-timing-function: var(--fds-animation-fade-out)\; transition-duration: var(--fds-duration-extra-extra-short-out)\; pointer-events: none\; opacity: 0\; font-family: inherit\;">&nbsp\;</div>\n</div>\n</div>\n</div>\n</div>\n</div>\n\n<div style="font-family: &quot\;Segoe UI Historic&quot\;\, &quot\;Segoe UI&quot\;\, Helvetica\, Arial\, sans-serif\; color: rgb(28\, 30\, 33)\; font-size: 12px\; background-color: rgb(255\, 255\, 255)\;">\n<div dir="auto" style="font-family: inherit\;">\n<div class="x1iorvi4 x1pi30zi x1l90r2v x1swvt13" data-ad-comet-preview="message" data-ad-preview="message" id=":r1eb:" style="padding: 4px 16px 16px\; font-family: inherit\;">\n<div class="x78zum5 xdt5ytf xz62fqu x16ldp7u" style="margin-top: -5px\; display: flex\; flex-direction: column\; margin-bottom: -5px\; font-family: inherit\;">\n<div class="xu06os2 x1ok221b" style="margin-top: 5px\; margin-bottom: 5px\; font-family: inherit\;">\n<div class="xdj266r x11i5rnm xat24cr x1mh8g0r x1vvkbs x126k92a" style="margin: 0px\; white-space: pre-wrap\; overflow-wrap: break-word\; font-family: inherit\;">\n<div dir="auto" style="font-family: inherit\;"><span class="x193iq5w xeuugli x13faqbe x1vvkbs x1xmvt09 x1lliihq x1s928wv xhkezso x1gmr53x x1cpjm7i x1fgarty x1943h6x xudqn12 x3x7a5m x6prxxf xvq8zen xo1l8bm xzsf02u x1yc453h" dir="auto" style="word-break: break-word\; max-width: 100%\; display: block\; overflow-wrap: break-word\; font-family: inherit\; font-size: 0.9375rem\; min-width: 0px\; line-height: 1.3333\; color: var(--primary-text)\;">Join Tanger Commerce for our Memorial Day Block Party on Saturday\, May 27th from 1 PM - 4 PM. Join us for FREE Family fun including a live DJ\, caricature art\, Tanger prize wheel\, giant bubble art from <span style="font-family: inherit\;"><a class="x1i10hfl xjbqb8w x6umtig x1b1mbwd xaqea5y xav7gou x9f619 x1ypdohk xt0psk2 xe8uvvx xdj266r x11i5rnm xat24cr x1mh8g0r xexx8yu x4uap5 x18d9i69 xkhd6sd x16tdsg8 x1hl2dhg xggy1nq x1a2a7pz xt0b8zv x1qq9wsj xo1l8bm" href="https://www.facebook.com/bubbleladyinatlanta?__cft__[0]=AZW6HN2YTd4bHubfTMDnJBiPPaNQLS7F-RGEVG-TAL2hsj3AL7GHJ2fEq3ULO4gInDRByC6c0Hw4e7WpFOJwPsT2KoO_s83aM2HRvVhW8WUPZn0MGd8cEAxCAJpvHwuGJvttZ6ebxvHhsnl9tYPtBCj_ivL0cPyK2BaqISYJOfk0h48vqdk2d9R0grDTYPOPm6w&amp\;__tn__=-]K-R" role="link" style="cursor: pointer\; text-decoration-line: none\; border-width: 0px\; border-style: initial\; border-color: initial\; outline: none\; list-style: none\; margin: 0px\; text-align: inherit\; padding: 0px\; -webkit-tap-highlight-color: transparent\; box-sizing: border-box\; touch-action: manipulation\; background-color: transparent\; display: inline\; font-family: inherit\;" tabindex="0"><span class="xt0psk2" style="display: inline\; font-family: inherit\;">Bubbles Over Georgia</span></a></span>\, and more! Event area is immediately in front of H&amp\;M. </span></div>\n</div>\n\n<div class="x11i5rnm xat24cr x1mh8g0r x1vvkbs xtlvy1s x126k92a" style="margin: 0.5em 0px 0px\; white-space: pre-wrap\; overflow-wrap: break-word\; font-family: inherit\;">\n<div dir="auto" style="font-family: inherit\;"><span class="x193iq5w xeuugli x13faqbe x1vvkbs x1xmvt09 x1lliihq x1s928wv xhkezso x1gmr53x x1cpjm7i x1fgarty x1943h6x xudqn12 x3x7a5m x6prxxf xvq8zen xo1l8bm xzsf02u x1yc453h" dir="auto" style="word-break: break-word\; max-width: 100%\; display: block\; overflow-wrap: break-word\; font-family: inherit\; font-size: 0.9375rem\; min-width: 0px\; line-height: 1.3333\; color: var(--primary-text)\;">While here\, be sure to check out our event sponsor - Atlanta Suits Outlet. We can&#39\;t wait to see you there!</span></div>\n</div>\n</div>\n</div>\n</div>\n</div>\n</div>\n
LOCATION:800 Steven B Tanger Blvd\, Commerce\, GA 30529 Event area is immediately in front of H&M
UID:e.1877.5048
SEQUENCE:3
DTSTAMP:20260419T165109Z
URL:https://www.bankscountyga.biz/events/details/tanger-outlets-commerce-memorial-day-block-party-5048
END:VEVENT

END:VCALENDAR
