BEGIN:VCALENDAR
VERSION:2.0
PRODID:-//ChamberMaster//Event Calendar 2.0//EN
METHOD:PUBLISH
X-PUBLISHED-TTL:P3D
REFRESH-INTERVAL:P3D
CALSCALE:GREGORIAN
BEGIN:VEVENT
DTSTART:20230324T180000Z
DTEND:20230408T230000Z
X-MICROSOFT-CDO-ALLDAYEVENT:FALSE
SUMMARY:Tanger Outlets\, Commerce SPRING FAMILY PHOTOS
DESCRIPTION:6 Days Away! Spring Family Photos & Easter Bunny Moments start Friday\, March 24th and runs through April 8th. Sessions will be daily from 2PM - 7 PM.\n\n\n\nPhoto Sessions with De'Lace Photography are just a few magical minutes and packages start at $25. After your photo session you can view all digital images and purchase your digital files or prints in minutes to take home with you.\n\n\n\nPhoto Sessions with De'Lace Photography will be located in the commons area between Shopper Services (suite 201) and Lids (200).
X-ALT-DESC;FMTTYPE=text/html:<div class="x11i5rnm xat24cr x1mh8g0r x1vvkbs xdj266r x126k92a" style="margin: 0px\; white-space: pre-wrap\; overflow-wrap: break-word\; font-family: &quot\;Segoe UI Historic&quot\;\, &quot\;Segoe UI&quot\;\, Helvetica\, Arial\, sans-serif\; color: rgb(5\, 5\, 5)\; font-size: 30px\; background-color: rgb(255\, 255\, 255)\;">\n<div dir="auto" style="font-family: inherit\;">6 Days Away! Spring Family Photos &amp\; Easter Bunny Moments start Friday\, March 24th and runs through April 8th. Sessions will be daily from 2PM - 7 PM.</div>\n</div>\n\n<div class="x11i5rnm xat24cr x1mh8g0r x1vvkbs xtlvy1s x126k92a" style="margin: 0.5em 0px 0px\; white-space: pre-wrap\; overflow-wrap: break-word\; font-family: &quot\;Segoe UI Historic&quot\;\, &quot\;Segoe UI&quot\;\, Helvetica\, Arial\, sans-serif\; color: rgb(5\, 5\, 5)\; font-size: 30px\; background-color: rgb(255\, 255\, 255)\;">\n<div dir="auto" style="font-family: inherit\;">Photo Sessions with<span style="font-family: inherit\;"><a class="x1i10hfl xjbqb8w x6umtig x1b1mbwd xaqea5y xav7gou x9f619 x1ypdohk xt0psk2 xe8uvvx xdj266r x11i5rnm xat24cr x1mh8g0r xexx8yu x4uap5 x18d9i69 xkhd6sd x16tdsg8 x1hl2dhg xggy1nq x1a2a7pz xt0b8zv x1qq9wsj xo1l8bm" href="https://www.facebook.com/DlacePhoto?__cft__[0]=AZX0nQK9NGB3B6rE5CzC777jq4jeLp_24kT47nwI4W_FzNMu2RbaL0J4deI9WaspdP8SIxCgR6ZbL0dppizUuWIrYzj3zRfhcLN2UnDKDVKoaHbMSXHm3vZalmq51LowqKkujg15RT1r7ogOWVebI4_Ys1vcsRAPRDMIf9_xFXrlTrHVQkP4pkhppVo735Og7489l6RNFUTlgQ--GMyXEpjZ&amp\;__tn__=-]K-y-R" role="link" style="cursor: pointer\; text-decoration-line: none\; margin: 0px\; text-align: inherit\; padding: 0px\; outline: none\; border-width: 0px\; border-style: initial\; border-color: initial\; -webkit-tap-highlight-color: transparent\; box-sizing: border-box\; list-style: none\; touch-action: manipulation\; background-color: transparent\; display: inline\; font-family: inherit\;" tabindex="0"><span class="xt0psk2" style="display: inline\; font-family: inherit\;"> De&#39\;Lace Photograph</span></a></span>y are just a few magical minutes and packages start at $25. After your photo session you can view all digital images and purchase your digital files or prints in minutes to take home with you.</div>\n</div>\n\n<div class="x11i5rnm xat24cr x1mh8g0r x1vvkbs xtlvy1s x126k92a" style="margin: 0.5em 0px 0px\; white-space: pre-wrap\; overflow-wrap: break-word\; font-family: &quot\;Segoe UI Historic&quot\;\, &quot\;Segoe UI&quot\;\, Helvetica\, Arial\, sans-serif\; color: rgb(5\, 5\, 5)\; font-size: 30px\; background-color: rgb(255\, 255\, 255)\;">\n<div dir="auto" style="font-family: inherit\;">Photo Sessions with De&#39\;Lace Photography will be located in the commons area between Shopper Services (suite 201) and Lids (200).</div>\n</div>\n
LOCATION:800 Steven B Tanger Blvd Commerce\, GA\, Photo Sessions with De'Lace Photography will be located in the commons area between Shopper Services (suite 201) and Lids (200).
UID:e.1877.5032
SEQUENCE:3
DTSTAMP:20260419T201330Z
URL:https://www.bankscountyga.biz/events/details/tanger-outlets-commerce-spring-family-photos-5032
END:VEVENT

END:VCALENDAR
