BEGIN:VCALENDAR
VERSION:2.0
PRODID:-//ChamberMaster//Event Calendar 2.0//EN
METHOD:PUBLISH
X-PUBLISHED-TTL:P3D
REFRESH-INTERVAL:P3D
CALSCALE:GREGORIAN
BEGIN:VEVENT
DTSTART:20221111T230000Z
DTEND:20221112T010000Z
X-MICROSOFT-CDO-ALLDAYEVENT:FALSE
SUMMARY:Tanger Outlets\, Commerce Tree Lighting Celebration!
DESCRIPTION:Join Tanger Outlets Commerce as we kick-off the holiday season with our very first Tree Lighting Celebration presented by Atlanta Suits and SoCo Roofing.\n\nGather around the tree in our main lot in front of H&M and delight in holiday activities\, including meet and greet with The Grinch and Cindy Lou Who (don't forget to snap a photo)\, wooden ornament decorating station\, free caricature art\, live DJ\, giant bubble artist and much more!\n\nTANGERCLUB VIP PERK- TangerClub Members\, be sure to stop the Tanger Tent to pick up a 12oz Ceramic Mug and Ghirardelli Hot Cocoa Mix! Not a member? Visit www.tangeroutlet.com/tangerclub and sign-up today!
X-ALT-DESC;FMTTYPE=text/html:<div class="xdj266r x11i5rnm xat24cr x1mh8g0r x1vvkbs" style="margin: 0px\; overflow-wrap: break-word\; font-family: &quot\;Segoe UI Historic&quot\;\, &quot\;Segoe UI&quot\;\, Helvetica\, Arial\, sans-serif\; color: rgb(5\, 5\, 5)\; font-size: 30px\; background-color: rgb(255\, 255\, 255)\;">Join Tanger Outlets Commerce as we kick-off the holiday season with our very first Tree Lighting Celebration presented by Atlanta Suits and SoCo Roofing.</div>\n\n<div class="x11i5rnm xat24cr x1mh8g0r x1vvkbs xtlvy1s" style="margin: 0.5em 0px 0px\; overflow-wrap: break-word\; font-family: &quot\;Segoe UI Historic&quot\;\, &quot\;Segoe UI&quot\;\, Helvetica\, Arial\, sans-serif\; color: rgb(5\, 5\, 5)\; font-size: 30px\; background-color: rgb(255\, 255\, 255)\;">Gather around the tree in our main lot in front of H&amp\;M and delight in holiday activities\, including meet and greet with The Grinch and Cindy Lou Who (don&#39\;t forget to snap a photo)\, wooden ornament decorating station\, free caricature art\, live DJ\, giant bubble artist and much more!</div>\n\n<div class="x11i5rnm xat24cr x1mh8g0r x1vvkbs xtlvy1s" style="margin: 0.5em 0px 0px\; overflow-wrap: break-word\; font-family: &quot\;Segoe UI Historic&quot\;\, &quot\;Segoe UI&quot\;\, Helvetica\, Arial\, sans-serif\; color: rgb(5\, 5\, 5)\; font-size: 30px\; background-color: rgb(255\, 255\, 255)\;">TANGERCLUB VIP PERK- TangerClub Members\, be sure to stop the Tanger Tent to pick up a 12oz Ceramic Mug and Ghirardelli Hot Cocoa Mix! Not a member? Visit&nbsp\;<a class="x1i10hfl xjbqb8w x6umtig x1b1mbwd xaqea5y xav7gou x9f619 x1ypdohk xt0psk2 xe8uvvx xdj266r x11i5rnm xat24cr x1mh8g0r xexx8yu x4uap5 x18d9i69 xkhd6sd x16tdsg8 x1hl2dhg xggy1nq x1a2a7pz xt0b8zv x1fey0fg" href="http://www.tangeroutlet.com/tangerclub?fbclid=IwAR3FgvELJzn_mUaFhraXJuJPdAqxg_Rs_BUQbWZghU4sbpzOlHM_tOfX1uU" rel="nofollow noopener" role="link" style="cursor: pointer\; text-decoration-line: none\; outline: none\; list-style: none\; border-width: 0px\; border-style: initial\; border-color: initial\; margin: 0px\; text-align: inherit\; padding: 0px\; -webkit-tap-highlight-color: transparent\; box-sizing: border-box\; touch-action: manipulation\; background-color: transparent\; display: inline\; font-family: inherit\;" tabindex="0" target="_blank">www.tangeroutlet.com/tangerclub</a>&nbsp\;and sign-up today!</div>\n
LOCATION:800 Steven B Tanger Blvd Commerce\, GA 30529
UID:e.1877.5005
SEQUENCE:3
DTSTAMP:20260420T025524Z
URL:https://www.bankscountyga.biz/events/details/tanger-outlets-commerce-tree-lighting-celebration-5005
END:VEVENT

END:VCALENDAR
