BEGIN:VCALENDAR
VERSION:2.0
PRODID:-//ChamberMaster//Event Calendar 2.0//EN
METHOD:PUBLISH
X-PUBLISHED-TTL:P3D
REFRESH-INTERVAL:P3D
CALSCALE:GREGORIAN
BEGIN:VEVENT
DTSTART:20220902T130000Z
DTEND:20220905T020000Z
X-MICROSOFT-CDO-ALLDAYEVENT:FALSE
SUMMARY:The 50TH Annual Homer Labor Day Festival
DESCRIPTION:THE TOWN OF HOMER AND THE HOMER DOWNTOWN DEVELOPMENT AUTHORITY PRESENTS THE 50TH ANNUAL LABOR DAY FESTIVAL\, Friday\, Saturday\, and Sunday September 2\,3\, & 4th.Activities include events for the children\, food and craft booths\, live entertainment and a worshi service on sunday with Much More!!!! For Vendor or Parade Information email:  tking@townofhomerga.com
X-ALT-DESC;FMTTYPE=text/html:THE TOWN OF HOMER AND THE HOMER DOWNTOWN DEVELOPMENT AUTHORITY PRESENTS THE 50TH ANNUAL LABOR DAY FESTIVAL\, Friday\, Saturday\, and Sunday September 2\,3\, &amp\; 4th.Activities include events for the children\, food and craft booths\, live entertainment and a worshi service on sunday with Much More!!!! For Vendor or Parade Information email:&nbsp\; tking@townofhomerga.com
LOCATION:Historic Downtown Highway 106 Yohan Homer Rd Homer\, GA 30547 Historic Homer Court House
UID:e.1877.4977
SEQUENCE:3
DTSTAMP:20260420T063646Z
URL:https://www.bankscountyga.biz/events/details/the-50th-annual-homer-labor-day-festival-4977
END:VEVENT

END:VCALENDAR
