BEGIN:VCALENDAR
VERSION:2.0
PRODID:-//ChamberMaster//Event Calendar 2.0//EN
METHOD:PUBLISH
X-PUBLISHED-TTL:P3D
REFRESH-INTERVAL:P3D
CALSCALE:GREGORIAN
BEGIN:VEVENT
DTSTART:20221206T213000Z
DTEND:20221206T233000Z
X-MICROSOFT-CDO-ALLDAYEVENT:FALSE
SUMMARY:The Baldwin Christmas Bazaar
DESCRIPTION:Come out at shop at our local craft vendors just in time for Christmas\, while enjoying a cup of cocoa as you wait for the Annual Habersham County Christmas Parade hosted by Baldwin. The parade will begin at 6:30pm. Immediately following the parade\, we will have a memorial dedication service for Officer Edgar Flores EOW 12/13/2018.
X-ALT-DESC;FMTTYPE=text/html:<span style="color: rgb(5\, 5\, 5)\; font-family: &quot\;Segoe UI Historic&quot\;\, &quot\;Segoe UI&quot\;\, Helvetica\, Arial\, sans-serif\; font-size: 30px\; background-color: rgb(255\, 255\, 255)\;">Come out at shop at our local craft vendors just in time for Christmas\, while enjoying a cup of cocoa as you wait for the Annual Habersham County Christmas Parade hosted by Baldwin. The parade will begin at 6:30pm. Immediately following the parade\, we will have a memorial dedication service for Officer Edgar Flores EOW 12/13/2018.</span>
LOCATION:110 Airport Rd\, Baldwn\, GA 30511
UID:e.1877.5006
SEQUENCE:3
DTSTAMP:20260420T011626Z
URL:https://www.bankscountyga.biz/events/details/the-baldwin-christmas-bazaar-5006
END:VEVENT

END:VCALENDAR
