BEGIN:VCALENDAR
VERSION:2.0
PRODID:-//ChamberMaster//Event Calendar 2.0//EN
METHOD:PUBLISH
X-PUBLISHED-TTL:P3D
REFRESH-INTERVAL:P3D
CALSCALE:GREGORIAN
BEGIN:VEVENT
DTSTART:20230506T130000Z
DTEND:20230506T160000Z
X-MICROSOFT-CDO-ALLDAYEVENT:FALSE
SUMMARY:TOWN OF ALTO TEAM CLEAN UP DAY
DESCRIPTION:TOWN OF ALTO will be holding a Spring Clean Up-Day! on Saturday\, May 6th\, 2023 from 9:00 am to 12:00 pm.  Looking for volunteers\, lunch will be provided.  Supplies will be furnished and T-Shirts for participants.  Contact Town Hall at 706-778-8035.  Arrive at the Community Centner at 162 S Grant Street!!!
X-ALT-DESC;FMTTYPE=text/html:TOWN OF ALTO will be holding a Spring Clean Up-Day! on Saturday\, May 6th\, 2023 from 9:00 am to 12:00 pm.&nbsp\; Looking for volunteers\, lunch will be provided.&nbsp\; Supplies will be furnished and T-Shirts for participants.&nbsp\; Contact Town Hall at 706-778-8035.&nbsp\; Arrive at the Community Centner at 162 S Grant Street!!!
LOCATION:Community Center 162 S Grant Street\, Alto\, GA
UID:e.1877.5033
SEQUENCE:3
DTSTAMP:20260419T183314Z
URL:https://www.bankscountyga.biz/events/details/town-of-alto-team-clean-up-day-5033
END:VEVENT

END:VCALENDAR
