BEGIN:VCALENDAR
VERSION:2.0
PRODID:-//ChamberMaster//Event Calendar 2.0//EN
METHOD:PUBLISH
X-PUBLISHED-TTL:P3D
REFRESH-INTERVAL:P3D
CALSCALE:GREGORIAN
BEGIN:VEVENT
DTSTART:20221031T210000Z
DTEND:20221031T230000Z
X-MICROSOFT-CDO-ALLDAYEVENT:FALSE
SUMMARY:Trunk or Treat - Banks Office
DESCRIPTION:MedLink Truck or Treat \n\nJoin us at our Banks Location for a Trunk or Treat. Hope to see you there.
X-ALT-DESC;FMTTYPE=text/html:<span style="color: rgb(5\, 5\, 5)\; font-family: &quot\;Segoe UI Historic&quot\;\, &quot\;Segoe UI&quot\;\, Helvetica\, Arial\, sans-serif\; font-size: 30px\; background-color: rgb(255\, 255\, 255)\;">MedLink Truck or Treat&nbsp\;<br />\nJoin us at our Banks Location for a Trunk or Treat. Hope to see you there.</span>
LOCATION:MedLink Georgia 1455 Historic Homer Hwy Homer\, GA
UID:e.1877.4996
SEQUENCE:3
DTSTAMP:20260420T063435Z
URL:https://www.bankscountyga.biz/events/details/trunk-or-treat-banks-office-4996
END:VEVENT

END:VCALENDAR
