BEGIN:VCALENDAR
VERSION:2.0
PRODID:-//ChamberMaster//Event Calendar 2.0//EN
METHOD:PUBLISH
X-PUBLISHED-TTL:P3D
REFRESH-INTERVAL:P3D
CALSCALE:GREGORIAN
BEGIN:VEVENT
DTSTART:20220910T170000Z
DTEND:20220910T200000Z
X-MICROSOFT-CDO-ALLDAYEVENT:FALSE
SUMMARY:WCON Talent Show at the 2022 Chattahoochee Mt. Fair!
DESCRIPTION:My Country 99.3 is proud to present the WCON Talent Show at the 2022 Chattahoochee Mountain Fair! Whether it be singing\, dancing\, or any other display\, showcase your talents before our judges and get noticed by the community.\n\nRegister now! Only the first 15 entries from each age category will be accepted.\n\nNote: All winners should be prepared to return to the Fair on Wednesday\, September 14th at 7:00pm to perform three songs on stage.\n\nIf you have any questions\, please contact Debbie at 706-778-2241 during regular business hours. Thanks for your participation in the 2022 WCON Talent Show!\n\n \n\n\n \n\n\n\n\n\n\n\n\n\n\nAbout the Fair\n\n\n \n\n\n\nThe Chattahoochee Mountain Fair has been a tradition in Northeast Georgia since 1975. Spend a special week back in the good old days of home made treats\, hand made crafts\, a farm animal petting zoo and carnival rides galore!\n\n Habersham County Fairgrounds   4235 Toccoa Rd.\, Clarkesville\, GA.
X-ALT-DESC;FMTTYPE=text/html:<div>\n<div class="uncode_text_column" style="box-sizing: border-box\; position: relative\; color: rgb(119\, 119\, 119)\; font-family: &quot\;Roboto Slab&quot\;\, &quot\;Roboto Slab&quot\;\; font-size: 15px\; background-color: rgb(255\, 255\, 255)\; margin-top: 0px !important\;">\n<p style="box-sizing: border-box\; line-height: 1.75\; margin-right: 0px\; margin-bottom: 0px\; margin-left: 0px\; margin-top: 0px !important\;">My Country 99.3 is proud to present the&nbsp\;<span style="box-sizing: border-box\; font-weight: 600\; color: rgb(48\, 49\, 51)\; margin-top: 0px !important\;">WCON Talent Show</span>&nbsp\;at the&nbsp\;<span style="box-sizing: border-box\; font-weight: 600\; color: rgb(48\, 49\, 51)\;">2022 Chattahoochee Mountain Fair</span>! Whether it be singing\, dancing\, or any other display\, showcase your talents before our judges and get noticed by the community.</p>\n\n<p style="box-sizing: border-box\; line-height: 1.75\; margin: 18px 0px 0px\;"><span style="box-sizing: border-box\; font-weight: 600\; color: rgb(48\, 49\, 51)\;">Register now!</span>&nbsp\;Only the first 15 entries from each age category will be accepted.</p>\n\n<p style="box-sizing: border-box\; line-height: 1.75\; margin: 18px 0px 0px\;"><em style="box-sizing: border-box\;">Note: All winners should be prepared to return to the Fair on Wednesday\, September 14th at 7:00pm to perform three songs on stage.</em></p>\n\n<p style="box-sizing: border-box\; line-height: 1.75\; margin: 18px 0px 0px\;">If you have any questions\, please contact Debbie at 706-778-2241 during regular business hours. Thanks for your participation in the 2022 WCON Talent Show!</p>\n\n<div>&nbsp\;</div>\n</div>\n\n<div class="wpb_raw_code wpb_content_element wpb_raw_html" style="box-sizing: border-box\; position: relative\; margin-top: 36px\; color: rgb(119\, 119\, 119)\; font-family: &quot\;Roboto Slab&quot\;\, &quot\;Roboto Slab&quot\;\; font-size: 15px\; background-color: rgb(255\, 255\, 255)\;">&nbsp\;</div>\n</div>\n\n<div>\n<div class="wpb_column pos-top pos-center align_left column_parent col-lg-4 single-internal-gutter" style="box-sizing: border-box\; padding: 0px 0px 0px 36px\; display: table-cell\; height: 0px\; width: 388px\; vertical-align: top\; position: relative\; clear: both\; font-family: &quot\;Roboto Slab&quot\;\, &quot\;Roboto Slab&quot\;\; font-size: 15px\; background-color: rgb(255\, 255\, 255)\;">\n<div class="uncol style-light" style="box-sizing: border-box\; color: rgb(119\, 119\, 119)\; overflow: visible\; position: relative\;">\n<div class="uncoltable" style="box-sizing: border-box\; display: table\; table-layout: fixed\; position: relative\; width: 352px\; height: 1206.72px\; min-height: 0px !important\;">\n<div class="uncell no-block-padding" style="box-sizing: border-box\; display: table-cell\; position: relative\; height: 1206.72px\; vertical-align: top\; border: 0px\; padding: 0px\;">\n<div class="uncont" style="box-sizing: border-box\; margin: 0px auto\;">\n<div class="vc_custom_heading_wrap " style="box-sizing: border-box\; position: relative\; margin-top: 36px\;">\n<div class="heading-text el-text" style="box-sizing: border-box\; clear: both\;">\n<h2 class="h2" style="box-sizing: border-box\; -webkit-font-smoothing: antialiased\; font-size: 29px\; line-height: 1.2\; margin-right: 0px\; margin-left: 0px\; letter-spacing: 0em\; color: rgb(48\, 49\, 51)\; display: inline-block\; margin-top: 0px !important\; margin-bottom: 0px !important\;"><span style="box-sizing: border-box\; display: block\;">About the Fair</span></h2>\n</div>\n\n<div class="clear" style="box-sizing: border-box\; margin-top: 0px !important\;">&nbsp\;</div>\n</div>\n\n<div class="uncode_text_column" style="box-sizing: border-box\; position: relative\; margin-top: 36px\;">\n<p style="box-sizing: border-box\; line-height: 1.75\; margin: 0px\;">The Chattahoochee Mountain Fair has been a tradition in Northeast Georgia since 1975. Spend a special week back in the good old days of home made treats\, hand made crafts\, a farm animal petting zoo and carnival rides galore!</p>\n\n<p style="box-sizing: border-box\; line-height: 1.75\; margin: 18px 0px 0px\;">&nbsp\;Habersham County Fairgrounds &ndash\; 4235 Toccoa Rd.\, Clarkesville\, GA.</p>\n</div>\n\n<div class="wpb_raw_code wpb_content_element wpb_raw_html" style="box-sizing: border-box\; position: relative\; margin-top: 36px\;">\n<div class="wpb_wrapper" style="box-sizing: border-box\;">&nbsp\;</div>\n</div>\n</div>\n</div>\n</div>\n</div>\n</div>\n\n<div class="wpb_column pos-top pos-center align_left column_parent col-lg-8 single-internal-gutter" style="box-sizing: border-box\; padding: 0px 0px 0px 36px\; display: table-cell\; height: 0px\; width: 776px\; vertical-align: top\; position: relative\; clear: both\; font-family: &quot\;Roboto Slab&quot\;\, &quot\;Roboto Slab&quot\;\; font-size: 15px\; background-color: rgb(255\, 255\, 255)\;">\n<div class="uncol style-light" style="box-sizing: border-box\; color: rgb(119\, 119\, 119)\; overflow: visible\; position: relative\;">\n<div class="uncoltable" style="box-sizing: border-box\; display: table\; table-layout: fixed\; position: relative\; width: 740px\; height: 2218px\; min-height: 0px !important\;">\n<div class="uncell no-block-padding" style="box-sizing: border-box\; display: table-cell\; position: relative\; height: 2218px\; vertical-align: top\; border: 0px\; padding: 0px\;">\n<div class="uncont" style="box-sizing: border-box\; margin: 0px auto\;">\n<div class="uncode_text_column" style="box-sizing: border-box\; position: relative\; margin-top: 0px !important\;">\n<p style="box-sizing: border-box\; line-height: 1.75\; margin-right: 0px\; margin-bottom: 0px\; margin-left: 0px\; margin-top: 0px !important\;">&nbsp\;</p>\n</div>\n</div>\n</div>\n</div>\n</div>\n</div>\n</div>\n
LOCATION:Chattahooche Mountain Fair 4235 Toccoa Rd\, Clarkesville\, GA.
UID:e.1877.4974
SEQUENCE:3
DTSTAMP:20260420T063621Z
URL:https://www.bankscountyga.biz/events/details/wcon-talent-show-at-the-2022-chattahoochee-mt-fair-4974
END:VEVENT

END:VCALENDAR
