BEGIN:VCALENDAR
VERSION:2.0
PRODID:-//ChamberMaster//Event Calendar 2.0//EN
METHOD:PUBLISH
X-PUBLISHED-TTL:P3D
REFRESH-INTERVAL:P3D
CALSCALE:GREGORIAN
BEGIN:VEVENT
DTSTART:20230213T140000Z
DTEND:20230213T200000Z
X-MICROSOFT-CDO-ALLDAYEVENT:FALSE
SUMMARY:Worksource Georgia Mountains Career Exploration
DESCRIPTION:Meet & Greet Career Exploration.  Join us on February 13\, 2023 in Gainesville for the Hands on Career exploration\, with Virtual reality simulations\, Fast track training opportunities and local Employers.  9 AM - 3 PM.
X-ALT-DESC;FMTTYPE=text/html:Meet &amp\; Greet Career Exploration.&nbsp\; Join us on February 13\, 2023 in Gainesville for the Hands on Career exploration\, with Virtual reality simulations\, Fast track training opportunities and local Employers.&nbsp\; 9 AM - 3 PM.
LOCATION:Georgia Department of Labor 2756 Atlanta Hwy\, Gainesville\, GA 30504
UID:e.1877.5013
SEQUENCE:3
DTSTAMP:20260419T214922Z
URL:https://www.bankscountyga.biz/events/details/worksource-georgia-mountains-career-exploration-5013
END:VEVENT

END:VCALENDAR
